BEGIN:VCALENDAR
VERSION:2.0
PRODID:-//RIGHTHERE//CALENDARIZE IT V3.2//EN
BEGIN:VTIMEZONE
TZID:Europe/Dublin
BEGIN:STANDARD
DTSTART:20251026T010000
TZOFFSETFROM:+0100
TZOFFSETTO:+0000
TZNAME:GMT
END:STANDARD
BEGIN:DAYLIGHT
DTSTART:20260329T010000
TZOFFSETFROM:+0000
TZOFFSETTO:+0100
TZNAME:IST
END:DAYLIGHT
BEGIN:STANDARD
DTSTART:20261025T010000
TZOFFSETFROM:+0100
TZOFFSETTO:+0000
TZNAME:GMT
END:STANDARD
END:VTIMEZONE
BEGIN:VEVENT
UID:1009690-events@www.causey.ie
DTSTART;VALUE=DATE:20211121
DTEND;VALUE=DATE:20211121
DTSTAMP;TZID=Europe/Dublin:20210611T171938
SUMMARY:Causey Christmas Experience
RDATE;TZID=Europe/Dublin;VALUE=PERIOD:20211126T000000/20211128T000000,20211
 201T000000/20211223T000000,20221120T000000/20221120T000000,20221125T000000
 /20221127T000000,20221201T000000/20221204T000000,20221205T000000/20221211T
 000000,20221212T000000/20221218T000000,20221219T000000/20221223T000000,202
 31119T000000/20231119T000000,20231124T000000/20231126T000000,20231130T0000
 00/20231203T000000,20231204T000000/20231210T000000,20231211T000000/2023121
 7T000000,20231218T000000/20231223T000000,20251123T000000/20251123T000000,2
 0251128T000000/20251128T000000,20251129T000000/20251129T000000,20251130T00
 0000/20251130T000000,20251201T000000/20251223T000000
URL:https://www.causey.ie/events/causey-christmas-experience/
END:VEVENT
END:VCALENDAR